BEGIN:VCALENDAR
VERSION:2.0
PRODID:-//ELSA Zurich - ECPv6.15.17//NONSGML v1.0//EN
CALSCALE:GREGORIAN
METHOD:PUBLISH
X-ORIGINAL-URL:https://elsazurich.ch
X-WR-CALDESC:Veranstaltungen im ELSA Zurich
REFRESH-INTERVAL;VALUE=DURATION:PT1H
X-Robots-Tag:noindex
X-PUBLISHED-TTL:PT1H
BEGIN:VTIMEZONE
TZID:Europe/Zurich
BEGIN:DAYLIGHT
TZOFFSETFROM:+0100
TZOFFSETTO:+0200
TZNAME:CEST
DTSTART:20220327T010000
END:DAYLIGHT
BEGIN:STANDARD
TZOFFSETFROM:+0200
TZOFFSETTO:+0100
TZNAME:CET
DTSTART:20221030T010000
END:STANDARD
BEGIN:DAYLIGHT
TZOFFSETFROM:+0100
TZOFFSETTO:+0200
TZNAME:CEST
DTSTART:20230326T010000
END:DAYLIGHT
BEGIN:STANDARD
TZOFFSETFROM:+0200
TZOFFSETTO:+0100
TZNAME:CET
DTSTART:20231029T010000
END:STANDARD
BEGIN:DAYLIGHT
TZOFFSETFROM:+0100
TZOFFSETTO:+0200
TZNAME:CEST
DTSTART:20240331T010000
END:DAYLIGHT
BEGIN:STANDARD
TZOFFSETFROM:+0200
TZOFFSETTO:+0100
TZNAME:CET
DTSTART:20241027T010000
END:STANDARD
END:VTIMEZONE
BEGIN:VEVENT
DTSTART;TZID=Europe/Zurich:20230302T133000
DTEND;TZID=Europe/Zurich:20230302T183000
DTSTAMP:20260419T193311
CREATED:20230126T093730Z
LAST-MODIFIED:20230126T093730Z
UID:10000067-1677763800-1677781800@elsazurich.ch
SUMMARY:ELSA Negotiation Competition (ENC)
DESCRIPTION:Möchtest du dein fachbezogenes Englisch und dein Verhandlungsgeschick verbessern? \nDie ENC ist eine Simulation eines Verhandlungsprozesses zwischen zwei Parteien. Es verhandeln zwei Teams aus je zwei Jurastudierenden über einen Sachverhalt. Das Ziel hierbei ist\, das beste Resultat für die eigene Partei zu erreichen. \nDie Simulationen werden von einer Jury aus Partnern von Lenz & Staehlin beobachtet und bewertet. Der Hauptpreis ist ein Dinner mit der Jury. Für die Zweit- und Drittplatzierten werden Preise von ELSA Zurich zur Verfügung gestellt. \nFerner werden die besten Teams an die finale nationale Runde bei Schellenberg Wittmer eingeladen. \nWie haben interessierte Teams vorzugehen? \nSolltest Du an der ENC teilnehmen wollen\, schick uns mit deiner Teamkolleg:in ein kurzes Motivationsschreiben an academicactivities.zurich@ch.elsa.org . Sollten sich mehr Teams anmelden\, als Slots zur Verfügung stehen\, werden wir anhand der Motivationsschreiben entscheiden\, wer Teilnehmen darf. Dies ist jedoch selten der Fall. \nAblauf \nDie Bewerbung ist bis am 12.2.2023 offen. \nNach Deiner Bewerbung erfährst du bis spätestens am 13.2.2023\, ob Ihr an der ENC teilnehmen könnt. \nAm 17.2.2023 findet ein freiwilliges\, aber dringend zu empfehlendes Webinar mit Schellenberg Wittmer statt. Dieses dauert etwa zwei Stunden und thematisiert Verhandlungstaktiken\, Vokabular und weiteres Nützliches für die anstehende Verhandlung. \nDie jeweiligen Cases werden Euch am 28.2.2023 zugestellt. \nDie lokale Runde von ELSA Zurich findet am 2.3.2023 in den Räumlichkeiten von Lenz & Staehlin\, mit anschliessendem Apéro und Rangverkündung statt. \nDie nationale Runde von ELSA Switzerland findet am 4.4.2023 bei Schellenberg Wittmer statt. \n  \nWir freuen uns sehr auf einen der interessantesten Anlässe dieses Jahres und ermutigen Euch dringend dazu\, erstens teilzunehmen und zweitens Euch jederzeit bei uns zu melden\, solltet Ihr Fragen haben.
URL:https://elsazurich.ch/event/elsa-negotiation-competition-enc/
LOCATION:Zürich
END:VEVENT
BEGIN:VEVENT
DTSTART;TZID=Europe/Zurich:20230308T150000
DTEND;TZID=Europe/Zurich:20230308T200000
DTSTAMP:20260419T193311
CREATED:20230207T070402Z
LAST-MODIFIED:20230207T070649Z
UID:10000089-1678287600-1678305600@elsazurich.ch
SUMMARY:Kanzleibesuch bei Baker McKenzie
DESCRIPTION:Wir freuen uns sehr\, dich am Mittwochnachmittag 08. März 2023 im Büro von Baker McKenzie begrüssen zu dürfen. Baker McKenzie ist eine der renommiertesten internationalen Kanzleien der Schweiz. Mit ihren erfahrenen Anwältinnen und Anwälten bilden sie ein starkes Team von Spezialisten\, das sich gemeinsam für die beste Beratung und Vertretung ihrer Klienten einsetzt – in der Schweiz sowie in grenzüberschreitenden Transaktionen und Verfahren. \nUm 15.00 Uhr treffen wir uns im Erdgeschoss im Konferenzraum an der Holbeinstrasse 30. Du wirst von verschiedenen Partnerinnen und Partnern\, Anwältinnen und Anwälten sowie Substitutinnen und Substituten erfahren\, wie der Alltag in einer solchen Kanzlei aussieht. Zusätzlich werden zwei interaktive Case Studies besprochen\, bevor der Abend mit einem gemütlichen Apéro ausklingen wird\, der die Möglichkeit zum informellen Austausch bietet. \nTeilnahme: \nDer Anlass richtet sich an Studentinnen und Studenten ab dem 3. Semester\, die sich für ein Sommerpraktikum oder eine Substitutenstelle interessieren. Die Anmeldung erfolgt nach dem «first come\, first served» Prinzip. Bitte beachte\, dass die Anmeldung verbindlich ist. Des Weiteren möchten wir darauf hinweisen\, dass während dem Event Fotos gemacht werden. Wir freuen uns sehr\, dich bald kennenzulernen! \nAnmeldung: \nHier über die Webseite. Die Anmeldung beginnt am 20. Februar 2023 und schliesst am Montag\, 06. März 2023 um 24:00 Uhr. \n  \nDatum: Mittwoch\, 08. März 2023 \nZeit: ab 15.00 Uhr \nTreffpunkt: Konferenzraum\, Erdgeschoss \nAdresse: Baker McKenzie Zurich\, Holbeinstrasse 30\, 8008 Zürich (About Us | Baker McKenzie) \n 
URL:https://elsazurich.ch/event/kanzleibesuch-bei-baker-mckenzie/
LOCATION:Baker McKenzie\, Holbeinstrasse 30\, Zürich\, 8008\, Switzerland
END:VEVENT
BEGIN:VEVENT
DTSTART;TZID=Europe/Zurich:20230316T180000
DTEND;TZID=Europe/Zurich:20230316T180000
DTSTAMP:20260419T193311
CREATED:20230208T154343Z
LAST-MODIFIED:20230312T182917Z
UID:10000091-1678989600-1678989600@elsazurich.ch
SUMMARY:ELSA Pub
DESCRIPTION:Die ELSA Pubs sind ein gemütliches Zusammenkommen aller Semester um sich bei einigen Bier / Drinks (nb. auf unsere Rechnung) gemütlich in einer Bar in Zürich zu treffen\, auszutauschen und kennenzulernen. Dieses Mal treffen wir uns ab 18:00 Uhr in der Ambossrampe\, gleich neben dem HB. Wir freuen uns!
URL:https://elsazurich.ch/event/elsa-pub-6/
LOCATION:Zürich
END:VEVENT
BEGIN:VEVENT
DTSTART;TZID=Europe/Zurich:20230322T170000
DTEND;TZID=Europe/Zurich:20230322T183000
DTSTAMP:20260419T193311
CREATED:20230305T193945Z
LAST-MODIFIED:20230305T193945Z
UID:10000096-1679504400-1679509800@elsazurich.ch
SUMMARY:UZH Jus meets PwC
DESCRIPTION:Erhalte wertvolle Einblicke in Tax & Legal und tausche dich mit unseren Mitarbeitenden aus. \nDu möchtest wissen\, wie die Theorie in die Praxis umgesetzt wird? Dann ist das der richtige Anlass für dich!  \nLerne unsere Firma und die Bereiche Tax & Legal kennen und diskutiere mit unseren Mitarbeitenden in Talk Rounds über aktuelle Themen. Zusätzlich erhältst du Einblick in den Arbeitsalltag einer UZH Jus-Alumna\, die nun bei PwC im Tax arbeitet. Beim anschliessenden Apéro hast du dann die Chance\, wertvolle Kontakte zu knüpfen und alle deine Fragen zu stellen. \nNeugierig? Dann melde dich so schnell wie möglich an\, um einen der begehrten Plätze zu sichern. \nWir freuen uns\, dich bald kennenzulernen.  \nAnmeldelink: https://www.pwc.ch/de/karriere-bei-pwc/karriere-events/uzh-jus-meets-pwc.html \n 
URL:https://elsazurich.ch/event/uzh-jus-meets-pwc/
LOCATION:PwC Zürich\, Birchstrasse 160\, Zürich\, 8050
END:VEVENT
BEGIN:VEVENT
DTSTART;TZID=Europe/Zurich:20230329T183000
DTEND;TZID=Europe/Zurich:20230329T183000
DTSTAMP:20260419T193311
CREATED:20230223T073255Z
LAST-MODIFIED:20230305T194224Z
UID:10000095-1680114600-1680114600@elsazurich.ch
SUMMARY:Generalversammlung ELSA Zurich
DESCRIPTION:Am 29. März 2023 um 18:30 Uhr findet im RAI-J-031 die GV von ELSA Zurich statt. Jedes Mitglied ist herzlich eingeladen\, daran teilzunehmen und somit das Vereinsjahr 2023/24 aktiv mitzugestalten. Wir wären froh\, wenn ihr euch für die GV hier über die Webseite anmelden könntet\, natürlich dürft ihr aber auch unangemeldet erscheinen. Die Working Materials sind bis spätestens 10 Tage vor der GV hier zu finden und werden euch bei Anmeldung noch via Mail zugestellt. \nVorstandskandidatur\nHast du Interesse an einer aktiven Mitarbeit im Vorstand von ELSA Zurich? Auch diese GV werden wieder einige Personen vom bisherigen Vorstand zurücktreten. Das bedeutet\, dass neue Plätze im Vorstand frei werden.\nELSA Zurich ist immer auf der Suche\, nach interessierten und engagierten Personen\, die sich bei der GV zur Wahlstellen und sich bei einer erfolgreichen Wahl zu einem unvergesslichen ELSA Jahr verpflichten. Jedes Mitglied\, egal in welchem Semester\, ist zur Wahl zugelassen. \nWer kandidiert\, muss nicht unbedingt für eine Position kandidieren (der Vorstand konstituiert sich jeweils selber)\, kann aber eine Wunschposition oder Positionen angeben. \nAuf folgende Positionen gibt es:\n– (Co-)President (2x)\n– Marketing (2x)\n– Treasurer\n– Academic Activities (2x)\n– Seminars & Conferences\n– Secretary General \nSolltest Du Interesse an einer Vorstandskandidatur haben\, bewirb Dich bitte bis spätestens 19. März 2023 per Mail an president.zurich@ch.elsa.org. Schreibe in Deiner Bewerbung  etwas über Dich und erkläre uns\, warum Du kandidierst. Einen Lebenslauf brauchen wir nicht.
URL:https://elsazurich.ch/event/generalversammlung-elsa-zurich/
LOCATION:RWI
END:VEVENT
END:VCALENDAR