BEGIN:VCALENDAR
VERSION:2.0
PRODID:-//ELSA Zurich - ECPv6.15.17//NONSGML v1.0//EN
CALSCALE:GREGORIAN
METHOD:PUBLISH
X-WR-CALNAME:ELSA Zurich
X-ORIGINAL-URL:https://elsazurich.ch
X-WR-CALDESC:Veranstaltungen im ELSA Zurich
REFRESH-INTERVAL;VALUE=DURATION:PT1H
X-Robots-Tag:noindex
X-PUBLISHED-TTL:PT1H
BEGIN:VTIMEZONE
TZID:Europe/Zurich
BEGIN:DAYLIGHT
TZOFFSETFROM:+0100
TZOFFSETTO:+0200
TZNAME:CEST
DTSTART:20210328T010000
END:DAYLIGHT
BEGIN:STANDARD
TZOFFSETFROM:+0200
TZOFFSETTO:+0100
TZNAME:CET
DTSTART:20211031T010000
END:STANDARD
BEGIN:DAYLIGHT
TZOFFSETFROM:+0100
TZOFFSETTO:+0200
TZNAME:CEST
DTSTART:20220327T010000
END:DAYLIGHT
BEGIN:STANDARD
TZOFFSETFROM:+0200
TZOFFSETTO:+0100
TZNAME:CET
DTSTART:20221030T010000
END:STANDARD
BEGIN:DAYLIGHT
TZOFFSETFROM:+0100
TZOFFSETTO:+0200
TZNAME:CEST
DTSTART:20230326T010000
END:DAYLIGHT
BEGIN:STANDARD
TZOFFSETFROM:+0200
TZOFFSETTO:+0100
TZNAME:CET
DTSTART:20231029T010000
END:STANDARD
END:VTIMEZONE
BEGIN:VEVENT
DTSTART;TZID=Europe/Zurich:20221102T170000
DTEND;TZID=Europe/Zurich:20221102T170000
DTSTAMP:20260416T191340
CREATED:20220910T105343Z
LAST-MODIFIED:20221028T154043Z
UID:10000084-1667408400-1667408400@elsazurich.ch
SUMMARY:Kanzleibesuch Lenz & Staehelin
DESCRIPTION:Möchtest Du gerne mehr über den Alltag in einer Wirtschaftskanzlei erfahren? Dann heissen wir Dich am 2. November 2022 herzlich willkommen bei Lenz & Staehelin in Zürich. Mit Büros in Zürich\, Genf und Lausanne beraten wir in spezialisierten Teams Klienten rund um den Globus in allen Aspekten des Wirtschaftsrechts. \n Wir starten um 17.00 Uhr mit einer kurzen Einführung zu unserer Kanzlei. Anschliessend habt Ihr die Gelegenheit\, eine Einblick in unsere tägliche Mandatsarbeit zu gewinnen. Gemeinsam mit einem Vertreter unseres Dispute Resolution Teams werden wir einen konkreten Fall aus unserer Schiedsgerichtspraxis besprechen – und dabei der Frage nachgehen\, weshalb ein Casino im Westjordanland das Schweizer Bundesgericht beschäftigte. Zum Abschluss seid Ihr zu einem Apéro mit weiteren Mitarbeitern unserer Kanzlei eingeladen\, damit Ihr in informellem Rahmen alle Fragen stellen könnt\, die Ihr immer schon stellen wolltet. \nDiese Veranstaltung findet in Zusammenarbeit mit ELSA St. Gallen statt. Die Anmeldung erfolgt hier über die Webseite\, bitte schreibt in den Anmerkungen\, von welchem Verein ihr seid. \n 
URL:https://elsazurich.ch/event/kanzleibesuch-lenz-staehelin/
LOCATION:Lenz & Staehelin\, Brandschenkestrasse 24\, Zurich\, 8027
END:VEVENT
BEGIN:VEVENT
DTSTART;TZID=Europe/Zurich:20221111T184500
DTEND;TZID=Europe/Zurich:20221111T214500
DTSTAMP:20260416T191340
CREATED:20220910T105430Z
LAST-MODIFIED:20221111T091252Z
UID:10000083-1668192300-1668203100@elsazurich.ch
SUMMARY:Pizza Essen
DESCRIPTION:Am 11. November 2022 findet im Uniturm (KOL-K-Küche) das ELSA Zurich Pizza Essen statt. Um 18:45 Uhr seid ihr eingeladen auf Pizza & Drinks mit toller Aussicht auf Zürich. \nDie Anmeldung erfolgt hier über die Website. Das Anmeldefenster öffnet am Sonntag\, 06. November 2022 um 18:00 Uhr.
URL:https://elsazurich.ch/event/pizza-essen/
LOCATION:KOL-K-Küche (Uniturm)\, Zürich
END:VEVENT
BEGIN:VEVENT
DTSTART;TZID=Europe/Zurich:20221117T133000
DTEND;TZID=Europe/Zurich:20221117T133000
DTSTAMP:20260416T191340
CREATED:20220910T105526Z
LAST-MODIFIED:20221114T065853Z
UID:10000082-1668691800-1668691800@elsazurich.ch
SUMMARY:Workshop bei Wenger Vieli
DESCRIPTION:Wünscht Du Dir Abwechslung zum theoretischen Alltag der Universität und Einblicke in die Arbeit einer Wirtschaftskanzlei? Dann ist dieser Event genau richtig für Dich! \nWir freuen uns auf einen praxisnahen Workshop mit Euch zu den Themen Gesellschafts- und Sachenrecht. Der Workshop findet in den Räumlichkeiten von Wenger Vieli AG an der Dufourstrasse 56 in Zürich statt. Wenger Vieli AG ist eine der führenden internationalen Wirtschaftskanzleien der Schweiz mit über 70 Anwältinnen/Anwälten bzw. Steuerexpertinnen/Steuerexperten an den Standorten Zürich und Zug. \nNach einer Vorstellung der Kanzlei werden wir zusammen mit Euch konkrete Fälle zu den Themen Gesellschaftsrecht und Sachenrecht bearbeiten. Im Anschluss an den Workshop sind alle Teilnehmenden herzlichst zu einem Apéro eingeladen. \nTeilnahme: \nDa für den Workshop gewisse Grundkenntnisse vorausgesetzt werden\, richtet sich dieser an Bachelor-Studierende ab dem dritten Jahr sowie Master-Studierende. \nDie Teilnehmeranzahl ist beschränkt und erfolgt nach dem «first come\, first served»-Prinzip. \nAnmeldung: \nHier über die Webseite. Die Anmeldung schliesst am Montag\, 14. November 2022 um 24:00 Uhr. \n  \nDatum: Donnerstag\, 17. November 2022 \nZeit: ab 13:30 Uhr \nTreffpunkt: Empfang\, 1. Stock \nAdresse: Wenger Vieli AG\, Dufourstrasse 56\, 8008 Zürich \n  \n 
URL:https://elsazurich.ch/event/workshop-bei-wenger-vieli/
LOCATION:Wenger Vieli\, Dufourstrasse 56\, Zurich\, 8008
END:VEVENT
BEGIN:VEVENT
DTSTART;VALUE=DATE:20221124
DTEND;VALUE=DATE:20221125
DTSTAMP:20260416T191340
CREATED:20220910T105632Z
LAST-MODIFIED:20221117T131813Z
UID:10000081-1669248000-1669334399@elsazurich.ch
SUMMARY:ELSA Pub
DESCRIPTION:Am 24. November 2022 findet unser ELSA Pub im Barfly’z an der Gotthardstrasse 21\, in 8002 Zürich statt. Wir treffen uns ab 18:00 dort\, um gemeinsam und in gemütlicher Atmosphäre gute Drinks und das eine oder andere Bier zu geniessen. Selbstverständlich sind auch Weintrinker:innen herzlichst willkommen! \nBis dann\, wir freuen uns auf Euch! \n 
URL:https://elsazurich.ch/event/elsa-pub-3/
LOCATION:Barfly’z\, Gotthardstrasse 21\, Zürich\, Zürich\, 8002\, Switzerland
END:VEVENT
END:VCALENDAR