BEGIN:VCALENDAR
VERSION:2.0
PRODID:-//ELSA Zurich - ECPv6.15.17//NONSGML v1.0//EN
CALSCALE:GREGORIAN
METHOD:PUBLISH
X-WR-CALNAME:ELSA Zurich
X-ORIGINAL-URL:https://elsazurich.ch
X-WR-CALDESC:Veranstaltungen im ELSA Zurich
REFRESH-INTERVAL;VALUE=DURATION:PT1H
X-Robots-Tag:noindex
X-PUBLISHED-TTL:PT1H
BEGIN:VTIMEZONE
TZID:Europe/Zurich
BEGIN:DAYLIGHT
TZOFFSETFROM:+0100
TZOFFSETTO:+0200
TZNAME:CEST
DTSTART:20250330T010000
END:DAYLIGHT
BEGIN:STANDARD
TZOFFSETFROM:+0200
TZOFFSETTO:+0100
TZNAME:CET
DTSTART:20251026T010000
END:STANDARD
BEGIN:DAYLIGHT
TZOFFSETFROM:+0100
TZOFFSETTO:+0200
TZNAME:CEST
DTSTART:20260329T010000
END:DAYLIGHT
BEGIN:STANDARD
TZOFFSETFROM:+0200
TZOFFSETTO:+0100
TZNAME:CET
DTSTART:20261025T010000
END:STANDARD
BEGIN:DAYLIGHT
TZOFFSETFROM:+0100
TZOFFSETTO:+0200
TZNAME:CEST
DTSTART:20270328T010000
END:DAYLIGHT
BEGIN:STANDARD
TZOFFSETFROM:+0200
TZOFFSETTO:+0100
TZNAME:CET
DTSTART:20271031T010000
END:STANDARD
END:VTIMEZONE
BEGIN:VEVENT
DTSTART;TZID=Europe/Zurich:20260422T180000
DTEND;TZID=Europe/Zurich:20260422T210000
DTSTAMP:20260422T055436
CREATED:20260415T201129Z
LAST-MODIFIED:20260415T201216Z
UID:10000179-1776880800-1776891600@elsazurich.ch
SUMMARY:ELSA-Pub - Mules im Barfly'z
DESCRIPTION:Die ELSA Pubs sind ein gemütliches Zusammenkommen von ELSA-Mitgliedern aller Semester\, um sich bei einigen Bier / Drinks (nb. auf unsere Rechnung) gemütlich in einer Bar in Zürich zu treffen\, auszutauschen und kennenzulernen. Ab 18:00 treffen wir uns im Barfly’z. \nDieses Mal wird unser Pub extra am Mittwoch im Barfly’z veranstaltet\, damit alle vom Wednesday Special (Jeder Mule nur CHF 9.-) profitieren können. Wir laden euch ein\, die spannenden Kreationen zu probieren. \nDie Anmeldung ist für ELSA-Mitglieder hier ab dem 20. April 2026\, 18:00 Uhr möglich. Leider müssen wir die Anzahl Plätze auf 30 Personen beschränken. Entsprechend wichtig ist\, dass ihr euren Platz wieder freigebt\, wenn ihr nicht kommen könnt. Dennoch gilt: first come\, first served. \nWer sich keinen Platz per Anmeldung gesichert hat\, wird auch kein Bändel zur Bestellung auf unsere Rechnung erhalten. \nDie Mitgliedschaft wird vor Start des Events geprüft. \nWir freuen uns!
URL:https://elsazurich.ch/event/elsa-pub-mules-im-barflyz-4/
LOCATION:Barfly’z\, Gotthardstrasse 21\, Zürich\, Zürich\, 8002\, Switzerland
END:VEVENT
END:VCALENDAR