BEGIN:VCALENDAR
VERSION:2.0
PRODID:-//ELSA Zurich - ECPv6.15.17//NONSGML v1.0//EN
CALSCALE:GREGORIAN
METHOD:PUBLISH
X-WR-CALNAME:ELSA Zurich
X-ORIGINAL-URL:https://elsazurich.ch
X-WR-CALDESC:Veranstaltungen im ELSA Zurich
REFRESH-INTERVAL;VALUE=DURATION:PT1H
X-Robots-Tag:noindex
X-PUBLISHED-TTL:PT1H
BEGIN:VTIMEZONE
TZID:Europe/Zurich
BEGIN:DAYLIGHT
TZOFFSETFROM:+0100
TZOFFSETTO:+0200
TZNAME:CEST
DTSTART:20250330T010000
END:DAYLIGHT
BEGIN:STANDARD
TZOFFSETFROM:+0200
TZOFFSETTO:+0100
TZNAME:CET
DTSTART:20251026T010000
END:STANDARD
BEGIN:DAYLIGHT
TZOFFSETFROM:+0100
TZOFFSETTO:+0200
TZNAME:CEST
DTSTART:20260329T010000
END:DAYLIGHT
BEGIN:STANDARD
TZOFFSETFROM:+0200
TZOFFSETTO:+0100
TZNAME:CET
DTSTART:20261025T010000
END:STANDARD
BEGIN:DAYLIGHT
TZOFFSETFROM:+0100
TZOFFSETTO:+0200
TZNAME:CEST
DTSTART:20270328T010000
END:DAYLIGHT
BEGIN:STANDARD
TZOFFSETFROM:+0200
TZOFFSETTO:+0100
TZNAME:CET
DTSTART:20271031T010000
END:STANDARD
END:VTIMEZONE
BEGIN:VEVENT
DTSTART;TZID=Europe/Zurich:20260421T170000
DTEND;TZID=Europe/Zurich:20260421T193000
DTSTAMP:20260421T021304
CREATED:20260305T155654Z
LAST-MODIFIED:20260407T085415Z
UID:10000173-1776790800-1776799800@elsazurich.ch
SUMMARY:Kanzleibesuch bei Lenz & Staehelin
DESCRIPTION:Die Fusion von Baloise und Helvetia – ein Einblick in die vielseitige Tätigkeit als Wirtschaftsanwältin und Wirtschaftsanwalt \nWir freuen uns\, die Mitglieder von ELSA am 21. April 2026 in unserer Kanzlei willkommen zu heissen. Wir fangen um 17 Uhr an und führen euch in mit einer Case Study der Fusion von Baloise und Helvetia in die spannende und vielseitige Tätigkeit als Wirtschaftsanwaltin und Wirtschaftsanwalt ein. Anschliessend laden wir euch gerne zum Apéro ein\, bei dem die Möglichkeit zum informellen Austausch mit Partnerinnen und Partner\, Anwältinnen und Anwälten sowie Substitutinnen und Substituten besteht. \nDie Plätze sind limitiert und die Anmeldung erfolgt nach dem «first come\, first served» Prinzip. Bitte beachte\, dass die Anmeldung verbindlich ist. Wir freuen uns sehr\, dich bald kennenzulernen!
URL:https://elsazurich.ch/event/kanzleibesuch-bei-lenz-staehelin/
LOCATION:Lenz & Staehelin\, Brandschenkestrasse 24\, Zurich\, 8027
END:VEVENT
END:VCALENDAR