BEGIN:VCALENDAR
VERSION:2.0
PRODID:-//ELSA Zurich - ECPv6.15.17//NONSGML v1.0//EN
CALSCALE:GREGORIAN
METHOD:PUBLISH
X-WR-CALNAME:ELSA Zurich
X-ORIGINAL-URL:https://elsazurich.ch
X-WR-CALDESC:Veranstaltungen im ELSA Zurich
REFRESH-INTERVAL;VALUE=DURATION:PT1H
X-Robots-Tag:noindex
X-PUBLISHED-TTL:PT1H
BEGIN:VTIMEZONE
TZID:Europe/Zurich
BEGIN:DAYLIGHT
TZOFFSETFROM:+0100
TZOFFSETTO:+0200
TZNAME:CEST
DTSTART:20230326T010000
END:DAYLIGHT
BEGIN:STANDARD
TZOFFSETFROM:+0200
TZOFFSETTO:+0100
TZNAME:CET
DTSTART:20231029T010000
END:STANDARD
BEGIN:DAYLIGHT
TZOFFSETFROM:+0100
TZOFFSETTO:+0200
TZNAME:CEST
DTSTART:20240331T010000
END:DAYLIGHT
BEGIN:STANDARD
TZOFFSETFROM:+0200
TZOFFSETTO:+0100
TZNAME:CET
DTSTART:20241027T010000
END:STANDARD
BEGIN:DAYLIGHT
TZOFFSETFROM:+0100
TZOFFSETTO:+0200
TZNAME:CEST
DTSTART:20250330T010000
END:DAYLIGHT
BEGIN:STANDARD
TZOFFSETFROM:+0200
TZOFFSETTO:+0100
TZNAME:CET
DTSTART:20251026T010000
END:STANDARD
END:VTIMEZONE
BEGIN:VEVENT
DTSTART;TZID=Europe/Zurich:20241010T150000
DTEND;TZID=Europe/Zurich:20241010T180000
DTSTAMP:20260419T105328
CREATED:20240912T085833Z
LAST-MODIFIED:20240925T154148Z
UID:10000132-1728572400-1728583200@elsazurich.ch
SUMMARY:Kanzleibesuch bei Baker McKenzie
DESCRIPTION:Wir freuen uns sehr\, dich am Donnerstagnachmittag\, 10. Oktober 2024 im Büro von Baker McKenzie begrüssen zu dürfen. Baker McKenzie ist eine der renommiertesten internationalen Kanzleien der Schweiz. Mit ihren erfahrenen Anwältinnen und Anwälten bilden sie ein starkes Team von Spezialisten\, das sich gemeinsam für die beste Beratung und Vertretung ihrer Klienten einsetzt – in der Schweiz sowie in grenzüberschreitenden Transaktionen und Verfahren. \nUm 15.00 Uhr treffen wir uns im Erdgeschoss im Konferenzraum an der Holbeinstrasse 30. Du wirst von verschiedenen Anwältinnen und Anwälten sowie Substitutinnen und Substituten erfahren\, wie der Alltag in einer solchen Kanzlei aussieht. Zusätzlich werden Vorträge zum Thema Litigation und Finanzmarktrecht gehalten\, bevor der Abend mit einem gemütlichen Apéro ausklingen wird\, der die Möglichkeit zum informellen Austausch bietet. \n  \nTeilnahme: \nDer Anlass richtet sich an Studentinnen und Studenten ab dem 3. Semester\, die sich für ein Sommerpraktikum oder eine Substitutenstelle interessieren. Die Anmeldung erfolgt nach dem «first come\, first served» Prinzip. Bitte beachte\, dass die Anmeldung verbindlich ist. Wir bitten euch\, bei der Anmeldung eure Universität anzugeben. Des Weiteren möchten wir darauf hinweisen\, dass während dem Event Fotos gemacht werden. Wir freuen uns sehr\, dich bald kennenzulernen! \nAnmeldung: \nHier über die Webseite. Die Anmeldung beginnt am 25. September 2024 um 20:00 Uhr und schliesst am Freitag\, 04. Oktober 2024 um 24:00 Uhr. \n  \nDatum: Donnerstag\, 10. Oktober 2024 \nZeit: ab 15.00 Uhr \nTreffpunkt: Konferenzraum\, Erdgeschoss \nAdresse: Baker McKenzie Zurich\, Holbeinstrasse 30\, 8008 Zürich (About Us | Baker McKenzie)
URL:https://elsazurich.ch/event/kanzleibesuch-bei-baker-mckenzie-3/
LOCATION:Baker McKenzie\, Holbeinstrasse 30\, Zürich\, 8008\, Switzerland
END:VEVENT
END:VCALENDAR