BEGIN:VCALENDAR
VERSION:2.0
PRODID:-//ELSA Zurich - ECPv6.15.17//NONSGML v1.0//EN
CALSCALE:GREGORIAN
METHOD:PUBLISH
X-ORIGINAL-URL:https://elsazurich.ch
X-WR-CALDESC:Veranstaltungen im ELSA Zurich
REFRESH-INTERVAL;VALUE=DURATION:PT1H
X-Robots-Tag:noindex
X-PUBLISHED-TTL:PT1H
BEGIN:VTIMEZONE
TZID:Europe/Zurich
BEGIN:DAYLIGHT
TZOFFSETFROM:+0100
TZOFFSETTO:+0200
TZNAME:CEST
DTSTART:20220327T010000
END:DAYLIGHT
BEGIN:STANDARD
TZOFFSETFROM:+0200
TZOFFSETTO:+0100
TZNAME:CET
DTSTART:20221030T010000
END:STANDARD
BEGIN:DAYLIGHT
TZOFFSETFROM:+0100
TZOFFSETTO:+0200
TZNAME:CEST
DTSTART:20230326T010000
END:DAYLIGHT
BEGIN:STANDARD
TZOFFSETFROM:+0200
TZOFFSETTO:+0100
TZNAME:CET
DTSTART:20231029T010000
END:STANDARD
BEGIN:DAYLIGHT
TZOFFSETFROM:+0100
TZOFFSETTO:+0200
TZNAME:CEST
DTSTART:20240331T010000
END:DAYLIGHT
BEGIN:STANDARD
TZOFFSETFROM:+0200
TZOFFSETTO:+0100
TZNAME:CET
DTSTART:20241027T010000
END:STANDARD
END:VTIMEZONE
BEGIN:VEVENT
DTSTART;TZID=Europe/Zurich:20230510T183000
DTEND;TZID=Europe/Zurich:20230510T203000
DTSTAMP:20260419T122401
CREATED:20230412T141223Z
LAST-MODIFIED:20230501T142407Z
UID:10000098-1683743400-1683750600@elsazurich.ch
SUMMARY:Von ELSA zum EDA: Erfahrungen aus der Schweizer Diplomatie
DESCRIPTION:Am Mittwoch\, 10.05.2023\, von 18:30 bis ca. 19:30 (mit anschliessendem Apéro) im KO2-F-152\, wird uns Herr Tim Segessemann\, Diplomat in der Abteilung Frieden und Menschenrechte im eidgenössischen Departement für auswärtige Angelegenheiten (EDA)\, besuchen und im Rahmen einer Diskussion und Präsentation von seiner Tätigkeit beim EDA berichten. \nHerr Segessemann ist ehemaliges ELSA Zurich- sowie ELSA Switzerland-Vorstandsmitglied und hat nach seinen Studium u.a. in der Schweizer Botschaft im Vereinigten Königreich in London\, der Abteilung Afrika des EDA-Staatssekretariat in Bern und der Schweizer Botschaft in Ghana in Accra gearbeitet. Nach seinen Aufenthalten im Ausland ist er in die Schweiz zurückgekehrt und arbeitet nun in der Abteilung Frieden und Menschenrechte\, Sektion Menschenrechtsdiplomatie\, in der er für multilaterale Angelegenheiten zuständig ist.
URL:https://elsazurich.ch/event/referat-des-diplomatic-attache-bei-der-schweizerischen-botschaft-in-ghana/
LOCATION:KO2-F-152
END:VEVENT
END:VCALENDAR