BEGIN:VCALENDAR
VERSION:2.0
PRODID:-//ELSA Zurich - ECPv6.15.17//NONSGML v1.0//EN
CALSCALE:GREGORIAN
METHOD:PUBLISH
X-WR-CALNAME:ELSA Zurich
X-ORIGINAL-URL:https://elsazurich.ch
X-WR-CALDESC:Veranstaltungen im ELSA Zurich
REFRESH-INTERVAL;VALUE=DURATION:PT1H
X-Robots-Tag:noindex
X-PUBLISHED-TTL:PT1H
BEGIN:VTIMEZONE
TZID:Europe/Zurich
BEGIN:DAYLIGHT
TZOFFSETFROM:+0100
TZOFFSETTO:+0200
TZNAME:CEST
DTSTART:20220327T010000
END:DAYLIGHT
BEGIN:STANDARD
TZOFFSETFROM:+0200
TZOFFSETTO:+0100
TZNAME:CET
DTSTART:20221030T010000
END:STANDARD
BEGIN:DAYLIGHT
TZOFFSETFROM:+0100
TZOFFSETTO:+0200
TZNAME:CEST
DTSTART:20230326T010000
END:DAYLIGHT
BEGIN:STANDARD
TZOFFSETFROM:+0200
TZOFFSETTO:+0100
TZNAME:CET
DTSTART:20231029T010000
END:STANDARD
BEGIN:DAYLIGHT
TZOFFSETFROM:+0100
TZOFFSETTO:+0200
TZNAME:CEST
DTSTART:20240331T010000
END:DAYLIGHT
BEGIN:STANDARD
TZOFFSETFROM:+0200
TZOFFSETTO:+0100
TZNAME:CET
DTSTART:20241027T010000
END:STANDARD
END:VTIMEZONE
BEGIN:VEVENT
DTSTART;TZID=Europe/Zurich:20230404T180000
DTEND;TZID=Europe/Zurich:20230404T200000
DTSTAMP:20260419T114328
CREATED:20230307T093549Z
LAST-MODIFIED:20230326T125558Z
UID:10000097-1680631200-1680638400@elsazurich.ch
SUMMARY:Arbeiten bei der KESB
DESCRIPTION:Am 04.04.2023 um 18:00 Uhr werden zwei Vertreterinnen der Kindes- und Erwachsenenschutzbehörde (KESB)\, Frau Orsolya Fercsik Schnyder und Frau Ursina Geisser\, einen Vortrag über ihren Werdegang und ihren Arbeitsalltag bei der KESB halten. Beim anschliessenden Apéro habt Ihr sodann die Gelegenheit\, sie über weitere Details ihrer Tätigkeit auszufragen. \nOrt: KOL-G-217
URL:https://elsazurich.ch/event/arbeiten-bei-der-kesb/
LOCATION:KOL-G-217
END:VEVENT
END:VCALENDAR