BEGIN:VCALENDAR
VERSION:2.0
PRODID:-//ELSA Zurich - ECPv6.15.17//NONSGML v1.0//EN
CALSCALE:GREGORIAN
METHOD:PUBLISH
X-ORIGINAL-URL:https://elsazurich.ch
X-WR-CALDESC:Veranstaltungen im ELSA Zurich
REFRESH-INTERVAL;VALUE=DURATION:PT1H
X-Robots-Tag:noindex
X-PUBLISHED-TTL:PT1H
BEGIN:VTIMEZONE
TZID:Europe/Zurich
BEGIN:DAYLIGHT
TZOFFSETFROM:+0100
TZOFFSETTO:+0200
TZNAME:CEST
DTSTART:20210328T010000
END:DAYLIGHT
BEGIN:STANDARD
TZOFFSETFROM:+0200
TZOFFSETTO:+0100
TZNAME:CET
DTSTART:20211031T010000
END:STANDARD
BEGIN:DAYLIGHT
TZOFFSETFROM:+0100
TZOFFSETTO:+0200
TZNAME:CEST
DTSTART:20220327T010000
END:DAYLIGHT
BEGIN:STANDARD
TZOFFSETFROM:+0200
TZOFFSETTO:+0100
TZNAME:CET
DTSTART:20221030T010000
END:STANDARD
BEGIN:DAYLIGHT
TZOFFSETFROM:+0100
TZOFFSETTO:+0200
TZNAME:CEST
DTSTART:20230326T010000
END:DAYLIGHT
BEGIN:STANDARD
TZOFFSETFROM:+0200
TZOFFSETTO:+0100
TZNAME:CET
DTSTART:20231029T010000
END:STANDARD
END:VTIMEZONE
BEGIN:VEVENT
DTSTART;TZID=Europe/Zurich:20221102T170000
DTEND;TZID=Europe/Zurich:20221102T170000
DTSTAMP:20260419T123921
CREATED:20220910T105343Z
LAST-MODIFIED:20221028T154043Z
UID:10000084-1667408400-1667408400@elsazurich.ch
SUMMARY:Kanzleibesuch Lenz & Staehelin
DESCRIPTION:Möchtest Du gerne mehr über den Alltag in einer Wirtschaftskanzlei erfahren? Dann heissen wir Dich am 2. November 2022 herzlich willkommen bei Lenz & Staehelin in Zürich. Mit Büros in Zürich\, Genf und Lausanne beraten wir in spezialisierten Teams Klienten rund um den Globus in allen Aspekten des Wirtschaftsrechts. \n Wir starten um 17.00 Uhr mit einer kurzen Einführung zu unserer Kanzlei. Anschliessend habt Ihr die Gelegenheit\, eine Einblick in unsere tägliche Mandatsarbeit zu gewinnen. Gemeinsam mit einem Vertreter unseres Dispute Resolution Teams werden wir einen konkreten Fall aus unserer Schiedsgerichtspraxis besprechen – und dabei der Frage nachgehen\, weshalb ein Casino im Westjordanland das Schweizer Bundesgericht beschäftigte. Zum Abschluss seid Ihr zu einem Apéro mit weiteren Mitarbeitern unserer Kanzlei eingeladen\, damit Ihr in informellem Rahmen alle Fragen stellen könnt\, die Ihr immer schon stellen wolltet. \nDiese Veranstaltung findet in Zusammenarbeit mit ELSA St. Gallen statt. Die Anmeldung erfolgt hier über die Webseite\, bitte schreibt in den Anmerkungen\, von welchem Verein ihr seid. \n 
URL:https://elsazurich.ch/event/kanzleibesuch-lenz-staehelin/
LOCATION:Lenz & Staehelin\, Brandschenkestrasse 24\, Zurich\, 8027
END:VEVENT
END:VCALENDAR