BEGIN:VCALENDAR
VERSION:2.0
PRODID:-//ELSA Zurich - ECPv6.15.17//NONSGML v1.0//EN
CALSCALE:GREGORIAN
METHOD:PUBLISH
X-ORIGINAL-URL:https://elsazurich.ch
X-WR-CALDESC:Veranstaltungen im ELSA Zurich
REFRESH-INTERVAL;VALUE=DURATION:PT1H
X-Robots-Tag:noindex
X-PUBLISHED-TTL:PT1H
BEGIN:VTIMEZONE
TZID:Europe/Zurich
BEGIN:DAYLIGHT
TZOFFSETFROM:+0100
TZOFFSETTO:+0200
TZNAME:CEST
DTSTART:20210328T010000
END:DAYLIGHT
BEGIN:STANDARD
TZOFFSETFROM:+0200
TZOFFSETTO:+0100
TZNAME:CET
DTSTART:20211031T010000
END:STANDARD
BEGIN:DAYLIGHT
TZOFFSETFROM:+0100
TZOFFSETTO:+0200
TZNAME:CEST
DTSTART:20220327T010000
END:DAYLIGHT
BEGIN:STANDARD
TZOFFSETFROM:+0200
TZOFFSETTO:+0100
TZNAME:CET
DTSTART:20221030T010000
END:STANDARD
BEGIN:DAYLIGHT
TZOFFSETFROM:+0100
TZOFFSETTO:+0200
TZNAME:CEST
DTSTART:20230326T010000
END:DAYLIGHT
BEGIN:STANDARD
TZOFFSETFROM:+0200
TZOFFSETTO:+0100
TZNAME:CET
DTSTART:20231029T010000
END:STANDARD
END:VTIMEZONE
BEGIN:VEVENT
DTSTART;TZID=Europe/Zurich:20221028T133000
DTEND;TZID=Europe/Zurich:20221028T180000
DTSTAMP:20260419T124011
CREATED:20220924T071924Z
LAST-MODIFIED:20220925T080942Z
UID:10000088-1666963800-1666980000@elsazurich.ch
SUMMARY:Forschungssysmposium: Nachhaltigkeitsregulierung: Zielkonflikte der Unternehmen und Rolle des Rechts
DESCRIPTION:Liebe Mitglieder \nIn Zusammenarbeit mit der Zürich Law School (ZLS) und unserem Partner\, Walder Wyss\, machen wir euch gerne auf diesen Event aufmerksam: \nFür die Teilnahme ist keine Mitgliedschaft bei ELSA Zurich vorausgesetzt \n  \n \n  \nHinweis: ELSA Zurich ist für diesen Event nur als Promoterin tätig.
URL:https://elsazurich.ch/event/forschungssysmposium-nachhaltigkeitsregulierung-zielkonflikte-der-unternehmen-und-rolle-des-rechts/
LOCATION:Zürich
END:VEVENT
END:VCALENDAR