BEGIN:VCALENDAR
VERSION:2.0
PRODID:-//ELSA Zurich - ECPv6.15.17//NONSGML v1.0//EN
CALSCALE:GREGORIAN
METHOD:PUBLISH
X-WR-CALNAME:ELSA Zurich
X-ORIGINAL-URL:https://elsazurich.ch
X-WR-CALDESC:Veranstaltungen im ELSA Zurich
REFRESH-INTERVAL;VALUE=DURATION:PT1H
X-Robots-Tag:noindex
X-PUBLISHED-TTL:PT1H
BEGIN:VTIMEZONE
TZID:Europe/Zurich
BEGIN:DAYLIGHT
TZOFFSETFROM:+0100
TZOFFSETTO:+0200
TZNAME:CEST
DTSTART:20210328T010000
END:DAYLIGHT
BEGIN:STANDARD
TZOFFSETFROM:+0200
TZOFFSETTO:+0100
TZNAME:CET
DTSTART:20211031T010000
END:STANDARD
BEGIN:DAYLIGHT
TZOFFSETFROM:+0100
TZOFFSETTO:+0200
TZNAME:CEST
DTSTART:20220327T010000
END:DAYLIGHT
BEGIN:STANDARD
TZOFFSETFROM:+0200
TZOFFSETTO:+0100
TZNAME:CET
DTSTART:20221030T010000
END:STANDARD
BEGIN:DAYLIGHT
TZOFFSETFROM:+0100
TZOFFSETTO:+0200
TZNAME:CEST
DTSTART:20230326T010000
END:DAYLIGHT
BEGIN:STANDARD
TZOFFSETFROM:+0200
TZOFFSETTO:+0100
TZNAME:CET
DTSTART:20231029T010000
END:STANDARD
END:VTIMEZONE
BEGIN:VEVENT
DTSTART;VALUE=DATE:20221027
DTEND;VALUE=DATE:20221028
DTSTAMP:20260419T112446
CREATED:20220910T104803Z
LAST-MODIFIED:20221024T182321Z
UID:10000085-1666828800-1666915199@elsazurich.ch
SUMMARY:ELSA Pub mit dem Circolo Giovani Giuristi
DESCRIPTION:Am 27. Oktober 2022 um 18:00 Uhr findet unser ELSA Pub statt. Wir treffen uns in der Amboss Rampa Zürich und verbringen in entspannter Atmosphäre einen gemütlichen Abend. Dieses Mal mit dabei sind unsere Kolleginnen und Kollegen vom Giovani Giuristi Zurigo. \n  \nWir freuen uns auf euch!
URL:https://elsazurich.ch/event/elsa-pub-2/
LOCATION:Zürich
END:VEVENT
END:VCALENDAR