BEGIN:VCALENDAR
VERSION:2.0
PRODID:-//ELSA Zurich - ECPv6.15.17//NONSGML v1.0//EN
CALSCALE:GREGORIAN
METHOD:PUBLISH
X-ORIGINAL-URL:https://elsazurich.ch
X-WR-CALDESC:Veranstaltungen im ELSA Zurich
REFRESH-INTERVAL;VALUE=DURATION:PT1H
X-Robots-Tag:noindex
X-PUBLISHED-TTL:PT1H
BEGIN:VTIMEZONE
TZID:Europe/Zurich
BEGIN:DAYLIGHT
TZOFFSETFROM:+0100
TZOFFSETTO:+0200
TZNAME:CEST
DTSTART:20210328T010000
END:DAYLIGHT
BEGIN:STANDARD
TZOFFSETFROM:+0200
TZOFFSETTO:+0100
TZNAME:CET
DTSTART:20211031T010000
END:STANDARD
BEGIN:DAYLIGHT
TZOFFSETFROM:+0100
TZOFFSETTO:+0200
TZNAME:CEST
DTSTART:20220327T010000
END:DAYLIGHT
BEGIN:STANDARD
TZOFFSETFROM:+0200
TZOFFSETTO:+0100
TZNAME:CET
DTSTART:20221030T010000
END:STANDARD
BEGIN:DAYLIGHT
TZOFFSETFROM:+0100
TZOFFSETTO:+0200
TZNAME:CEST
DTSTART:20230326T010000
END:DAYLIGHT
BEGIN:STANDARD
TZOFFSETFROM:+0200
TZOFFSETTO:+0100
TZNAME:CET
DTSTART:20231029T010000
END:STANDARD
END:VTIMEZONE
BEGIN:VEVENT
DTSTART;TZID=Europe/Zurich:20221026T170000
DTEND;TZID=Europe/Zurich:20221026T170000
DTSTAMP:20260419T124024
CREATED:20220910T103710Z
LAST-MODIFIED:20221020T074816Z
UID:10000086-1666803600-1666803600@elsazurich.ch
SUMMARY:Kanzleibesuch bei Pestalozzi
DESCRIPTION:Wir freuen uns sehr\, dich am Mittwochabend 26. Oktober 2022 im Büro von Pestalozzi begrüssen zu dürfen. Pestalozzi ist eine der renommiertesten internationalen Wirtschaftskanzleien der Schweiz. Mit ihren erfahrenen Anwältinnen und Anwälten bilden sie ein starkes Team von Spezialisten\, das sich gemeinsam für die beste Beratung und Vertretung ihrer Klienten einsetzt – in der Schweiz sowie in grenzüberschreitenden Transaktionen und Verfahren. \nUm 16.45 Uhr treffen wir uns im 2. Stock an der Löwenstrasse 1. Ab 17.00 Uhr wirst du von verschiedenen Partnerinnen und Partnern\, Anwältinnen und Anwälten sowie Substitutinnen und Substituten erfahren\, wie der Alltag in einer Wirtschaftskanzlei aussieht und welche Karrierechancen existieren. Anschliessend werden wir den Abend mit einem gemütlichen Apéro ausklingen lassen\, der die Möglichkeit zum informellen Austausch bietet. \nTeilnahme: \nDer Anlass richtet sich an Studentinnen und Studenten ab dem 3. Semester\, die sich für ein Sommerpraktikum oder eine Substitutenstelle interessieren. Die Anmeldung erfolgt nach dem «first come\, first served» Prinzip. Bitte beachte\, dass die Anmeldung verbindlich ist. Des Weiteren möchten wir darauf hinweisen\, dass während dem Event Fotos gemacht werden. Wir freuen uns sehr\, dich bald kennenzulernen! \nAnmeldung: \nHier über die Webseite. Bitte gebt bei der Anmeldung an\, ob ihr von ELSA Zurich oder St. Gallen seid. \n  \nDatum: Mittwoch\, 26. Oktober 2022 \nZeit: ab 17.00 Uhr \nTreffpunkt: Empfang\, 2. Stock \nAdresse: Pestalozzi Rechtsanwälte AG\, Löwenstrasse 1\, 8001 Zürich \n 
URL:https://elsazurich.ch/event/kanzleibesuch-bei-pestalozzi/
LOCATION:Pestalozzi\, Feldeggstrasse 4\, Zürich\, 8008\, Switzerland
END:VEVENT
END:VCALENDAR