BEGIN:VCALENDAR
VERSION:2.0
PRODID:-//ELSA Zurich - ECPv6.15.17//NONSGML v1.0//EN
CALSCALE:GREGORIAN
METHOD:PUBLISH
X-WR-CALNAME:ELSA Zurich
X-ORIGINAL-URL:https://elsazurich.ch
X-WR-CALDESC:Veranstaltungen im ELSA Zurich
REFRESH-INTERVAL;VALUE=DURATION:PT1H
X-Robots-Tag:noindex
X-PUBLISHED-TTL:PT1H
BEGIN:VTIMEZONE
TZID:Europe/Zurich
BEGIN:DAYLIGHT
TZOFFSETFROM:+0100
TZOFFSETTO:+0200
TZNAME:CEST
DTSTART:20210328T010000
END:DAYLIGHT
BEGIN:STANDARD
TZOFFSETFROM:+0200
TZOFFSETTO:+0100
TZNAME:CET
DTSTART:20211031T010000
END:STANDARD
BEGIN:DAYLIGHT
TZOFFSETFROM:+0100
TZOFFSETTO:+0200
TZNAME:CEST
DTSTART:20220327T010000
END:DAYLIGHT
BEGIN:STANDARD
TZOFFSETFROM:+0200
TZOFFSETTO:+0100
TZNAME:CET
DTSTART:20221030T010000
END:STANDARD
BEGIN:DAYLIGHT
TZOFFSETFROM:+0100
TZOFFSETTO:+0200
TZNAME:CEST
DTSTART:20230326T010000
END:DAYLIGHT
BEGIN:STANDARD
TZOFFSETFROM:+0200
TZOFFSETTO:+0100
TZNAME:CET
DTSTART:20231029T010000
END:STANDARD
END:VTIMEZONE
BEGIN:VEVENT
DTSTART;TZID=Europe/Zurich:20221007T180000
DTEND;TZID=Europe/Zurich:20221007T180000
DTSTAMP:20260419T112230
CREATED:20220910T103142Z
LAST-MODIFIED:20221002T101337Z
UID:10000069-1665165600-1665165600@elsazurich.ch
SUMMARY:Beerpong Turnier
DESCRIPTION:  \nDiese Veranstaltung ist voll. Nur wer ein Bestätigungsmail gekriegt hat\, hats geschafft. Wir bitten um Verständnis. \nAm 7. Oktober 2022 um 18:00 Uhr findet in Kooperation mit Amboss Bier im Pavillion des GZ Buchegg das Beerpong Turnier statt. Anmelden könnt ihr euch hier am Sonntag\, 2 Oktober 2022 ab 12:00 Uhr. \nGespielt wird jeweils in zweier Teams. Es muss sich nur eine Person pro Team anmelden\, jedoch bitten wir darum\, in der «Weiteres» Spalte den Vor- und Nachnamen der TeampartnerInnen sowie den Teamnamen anzugeben. Es gibt Platz für 12 Teams. \nEs gilt first come\, first served. \nWir freuen uns auf euch!
URL:https://elsazurich.ch/event/beerpong-turnier/
LOCATION:GZ Buchegg\, Bucheggstrasse 93\, Zürich\, 8097
END:VEVENT
END:VCALENDAR