BEGIN:VCALENDAR
VERSION:2.0
PRODID:-//ELSA Zurich - ECPv6.15.17//NONSGML v1.0//EN
CALSCALE:GREGORIAN
METHOD:PUBLISH
X-WR-CALNAME:ELSA Zurich
X-ORIGINAL-URL:https://elsazurich.ch
X-WR-CALDESC:Veranstaltungen im ELSA Zurich
REFRESH-INTERVAL;VALUE=DURATION:PT1H
X-Robots-Tag:noindex
X-PUBLISHED-TTL:PT1H
BEGIN:VTIMEZONE
TZID:Europe/Zurich
BEGIN:DAYLIGHT
TZOFFSETFROM:+0100
TZOFFSETTO:+0200
TZNAME:CEST
DTSTART:20210328T010000
END:DAYLIGHT
BEGIN:STANDARD
TZOFFSETFROM:+0200
TZOFFSETTO:+0100
TZNAME:CET
DTSTART:20211031T010000
END:STANDARD
BEGIN:DAYLIGHT
TZOFFSETFROM:+0100
TZOFFSETTO:+0200
TZNAME:CEST
DTSTART:20220327T010000
END:DAYLIGHT
BEGIN:STANDARD
TZOFFSETFROM:+0200
TZOFFSETTO:+0100
TZNAME:CET
DTSTART:20221030T010000
END:STANDARD
BEGIN:DAYLIGHT
TZOFFSETFROM:+0100
TZOFFSETTO:+0200
TZNAME:CEST
DTSTART:20230326T010000
END:DAYLIGHT
BEGIN:STANDARD
TZOFFSETFROM:+0200
TZOFFSETTO:+0100
TZNAME:CET
DTSTART:20231029T010000
END:STANDARD
END:VTIMEZONE
BEGIN:VEVENT
DTSTART;TZID=Europe/Zurich:20221004T180000
DTEND;TZID=Europe/Zurich:20221004T180000
DTSTAMP:20260419T112242
CREATED:20220910T103056Z
LAST-MODIFIED:20221001T143554Z
UID:10000070-1664906400-1664906400@elsazurich.ch
SUMMARY:Kanzleibesuch bei MLL Legal
DESCRIPTION:Diese Veranstaltung ist voll.  \nWir freuen uns sehr\, dich am Dienstagabend 4. Oktober 2022 in unser Büro am Schiffbau einzuladen. MLL Legal ist eine der renommiertesten internationalen Wirtschaftskanzleien der Schweiz. Mit über 150 erfahrenen Anwältinnen und Anwälten bilden wir ein starkes Team von Spezialisten\, die für innovative und lösungsorientierte Dienstleistungen stehen. \nUm 18.00 Uhr treffen wir uns im 5. Stock und zeigen dir an einem Rundgang unsere Büros am Schiffbau. Ab 18.30 Uhr wirst du von verschiedenen Partnerinnen und Partner\, Anwältinnen und Anwälten sowie Substitutinnen und Substituten erfahren\, wie der Alltag in einer Witschaftskanzlei aussieht und welche Karrierechancen existieren. Zudem wird Livio Hubacher\, Manager Legal Tech bei MLL Legal\, einen spannenden Kurzvortrag über die Thematik Legal Tech machen. Anschliessend werden wir den Abend mit einem gemütlichen Apéro ausklingen lassen\, wo die Möglichkeit zum informellen Austausch besteht. \nTeilnahme: \nDer Anlass richtet sich an Studentinnen und Studenten\, die sich für ein Sommerpraktikum oder eine Substitutenstelle interessieren. Die Anmeldung erfolgt nach dem «first come\, first served» Prinzip. Bitte beachte\, dass die Anmeldung verbindlich ist. Wir freuen uns sehr\, dich bald kennenzulernen! \nAnmeldung: \nHier über die Webseite. Weitere Informationen dazu werden folgen. \n  \nDatum: Dienstag\, 4. Oktober 2022 \nZeit: 18.00 – 20.30 Uhr \nTreffpunkt: Zentrale\, 5. Stock \nAdresse: MLL Meyerlustenberger Lachenal Froriep AG\, Schiffbaustrasse 2\, 8005 Zürich \nDress code: Smart Casual \n 
URL:https://elsazurich.ch/event/kanzleibesuch-bei-mll-legal/
LOCATION:MLL Legal\, Schiffbaustrasse 2\, Zürich\, 8031
END:VEVENT
END:VCALENDAR