BEGIN:VCALENDAR
VERSION:2.0
PRODID:-//ELSA Zurich - ECPv6.15.17//NONSGML v1.0//EN
CALSCALE:GREGORIAN
METHOD:PUBLISH
X-WR-CALNAME:ELSA Zurich
X-ORIGINAL-URL:https://elsazurich.ch
X-WR-CALDESC:Veranstaltungen im ELSA Zurich
REFRESH-INTERVAL;VALUE=DURATION:PT1H
X-Robots-Tag:noindex
X-PUBLISHED-TTL:PT1H
BEGIN:VTIMEZONE
TZID:Europe/Zurich
BEGIN:DAYLIGHT
TZOFFSETFROM:+0100
TZOFFSETTO:+0200
TZNAME:CEST
DTSTART:20210328T010000
END:DAYLIGHT
BEGIN:STANDARD
TZOFFSETFROM:+0200
TZOFFSETTO:+0100
TZNAME:CET
DTSTART:20211031T010000
END:STANDARD
BEGIN:DAYLIGHT
TZOFFSETFROM:+0100
TZOFFSETTO:+0200
TZNAME:CEST
DTSTART:20220327T010000
END:DAYLIGHT
BEGIN:STANDARD
TZOFFSETFROM:+0200
TZOFFSETTO:+0100
TZNAME:CET
DTSTART:20221030T010000
END:STANDARD
BEGIN:DAYLIGHT
TZOFFSETFROM:+0100
TZOFFSETTO:+0200
TZNAME:CEST
DTSTART:20230326T010000
END:DAYLIGHT
BEGIN:STANDARD
TZOFFSETFROM:+0200
TZOFFSETTO:+0100
TZNAME:CET
DTSTART:20231029T010000
END:STANDARD
END:VTIMEZONE
BEGIN:VEVENT
DTSTART;TZID=Europe/Zurich:20220927T163000
DTEND;TZID=Europe/Zurich:20220927T180000
DTSTAMP:20260419T112254
CREATED:20220910T102545Z
LAST-MODIFIED:20221009T094708Z
UID:10000072-1664296200-1664301600@elsazurich.ch
SUMMARY:How to pass the Assessment
DESCRIPTION:Am 27. September 2022 um 16:30 Uhr findet im Raum RAA-G-01 (Gebäude der veganen Mensa)) der «How to pass the assessment» Vortrag statt. Wir vom Vorstand geben euch Tipps und verraten euch Tricks\, wie auch ihr dieses Jahr erfolgreich bestehen könnt. \nIm Anschluss habt ihr natürlich noch die Möglichkeit\, uns Eure Fragen zu stellen. \nWir freuen uns auf euch! \nFür diese Veranstaltung ist keine Mitgliedschaft bei ELSA Zurich vorausgesetzt\, ihr könnt auch spontan vorbeikommen \nFolien: ELSA How To Pass The Assessment 2022
URL:https://elsazurich.ch/event/how-to-pass-the-assessment/
LOCATION:RAA-G-01\, Universität Zürich\, Hauptgebäude
END:VEVENT
END:VCALENDAR